{
 "currentVersion": 11.3,
 "cimVersion": "3.3.0",
 "serviceDescription": "2013 NAIP Imagery",
 "mapName": "Layers",
 "description": "",
 "copyrightText": "",
 "supportsDynamicLayers": true,
 "layers": [
  {
   "id": 0,
   "name": "Becker_2013",
   "parentLayerId": -1,
   "defaultVisibility": true,
   "subLayerIds": null,
   "minScale": 0,
   "maxScale": 0,
   "type": "Raster Layer",
   "supportsDynamicLegends": true
  }
 ],
 "tables": [],
 "spatialReference": {
  "wkid": 102692,
  "latestWkid": 26850,
  "xyTolerance": 0.0010240000009536744,
  "zTolerance": 2.0E-5,
  "mTolerance": 0.001,
  "falseX": -116582600,
  "falseY": -98386400,
  "xyUnits": 3.7779578233458914E7,
  "falseZ": 0,
  "zUnits": 100000,
  "falseM": -100000,
  "mUnits": 10000
 },
 "singleFusedMapCache": true,
 "tileInfo": {
  "rows": 256,
  "cols": 256,
  "dpi": 96,
  "format": "MIXED",
  "compressionQuality": 75,
  "origin": {
   "x": -116582600,
   "y": 140028100
  },
  "spatialReference": {
   "wkid": 102692,
   "latestWkid": 26850,
   "xyTolerance": 0.0010240000009536744,
   "zTolerance": 2.0E-5,
   "mTolerance": 0.001,
   "falseX": -116582600,
   "falseY": -98386400,
   "xyUnits": 3.7779578233458914E7,
   "falseZ": 0,
   "zUnits": 100000,
   "falseM": -100000,
   "mUnits": 10000
  },
  "lods": [
   {
    "level": 0,
    "resolution": 347.22222222222223,
    "scale": 400000
   },
   {
    "level": 1,
    "resolution": 121.52777777777777,
    "scale": 140000
   },
   {
    "level": 2,
    "resolution": 55.55555555555555,
    "scale": 64000
   },
   {
    "level": 3,
    "resolution": 20.833333333333332,
    "scale": 24000
   },
   {
    "level": 4,
    "resolution": 13.888888888888888,
    "scale": 16000
   },
   {
    "level": 5,
    "resolution": 6.944444444444444,
    "scale": 8000
   },
   {
    "level": 6,
    "resolution": 4.340277777777778,
    "scale": 5000
   },
   {
    "level": 7,
    "resolution": 2.083333333333333,
    "scale": 2400
   },
   {
    "level": 8,
    "resolution": 1.0416666666666665,
    "scale": 1200
   },
   {
    "level": 9,
    "resolution": 0.5208333333333333,
    "scale": 600
   }
  ]
 },
 "storageInfo": {
  "storageFormat": "esriMapCacheStorageModeCompact",
  "packetSize": 128
 },
 "initialExtent": {
  "xmin": 2139955.625969759,
  "ymin": 1047760.0084284932,
  "xmax": 2404886.181525315,
  "ymax": 1101926.6750951598,
  "spatialReference": {
   "wkid": 102692,
   "latestWkid": 26850,
   "xyTolerance": 0.0010240000009536744,
   "zTolerance": 2.0E-5,
   "mTolerance": 0.001,
   "falseX": -116582600,
   "falseY": -98386400,
   "xyUnits": 3.7779578233458914E7,
   "falseZ": 0,
   "zUnits": 100000,
   "falseM": -100000,
   "mUnits": 10000
  }
 },
 "fullExtent": {
  "xmin": 2121679.119914084,
  "ymin": 939154.1679046961,
  "xmax": 2411070.618674592,
  "ymax": 1138296.945449329,
  "spatialReference": {
   "wkid": 102692,
   "latestWkid": 26850,
   "xyTolerance": 0.0010240000009536744,
   "zTolerance": 2.0E-5,
   "mTolerance": 0.001,
   "falseX": -116582600,
   "falseY": -98386400,
   "xyUnits": 3.7779578233458914E7,
   "falseZ": 0,
   "zUnits": 100000,
   "falseM": -100000,
   "mUnits": 10000
  }
 },
 "datesInUnknownTimezone": false,
 "minScale": 400000,
 "maxScale": 600,
 "units": "esriFeet",
 "supportedImageFormatTypes": "PNG32,PNG24,PNG,JPG,DIB,TIFF,EMF,PS,PDF,GIF,SVG,SVGZ,BMP",
 "documentInfo": {
  "Title": "",
  "Author": "",
  "Comments": "",
  "Subject": "",
  "Category": "",
  "Version": "10.1",
  "AntialiasingMode": "None",
  "TextAntialiasingMode": "Force",
  "Keywords": "imagery,naip"
 },
 "supportsQueryDomains": true,
 "capabilities": "Map,Query,Data",
 "supportedQueryFormats": "JSON, geoJSON, PBF",
 "exportTilesAllowed": false,
 "referenceScale": 0.0,
 "supportsDatumTransformation": true,
 "archivingInfo": {
  "supportsHistoricMoment": false
 },
 "supportsClipping": true,
 "supportsSpatialFilter": true,
 "supportsTimeRelation": true,
 "supportsQueryDataElements": true,
 "mapUnits": {
  "uwkid": 9003
 },
 "maxRecordCount": 1000,
 "maxImageHeight": 4096,
 "maxImageWidth": 4096,
 "supportedExtensions": "",
 "serviceItemId": "b3b55e940d5a4c5ab9e446128485061e"
}
